BEGIN:VCALENDAR
VERSION:2.0
PRODID:-//Un soir de swing - ECPv6.15.11//NONSGML v1.0//EN
CALSCALE:GREGORIAN
METHOD:PUBLISH
X-WR-CALNAME:Un soir de swing
X-ORIGINAL-URL:https://unsoirdeswing.fr
X-WR-CALDESC:Évènements pour Un soir de swing
REFRESH-INTERVAL;VALUE=DURATION:PT1H
X-Robots-Tag:noindex
X-PUBLISHED-TTL:PT1H
BEGIN:VTIMEZONE
TZID:Europe/Paris
BEGIN:DAYLIGHT
TZOFFSETFROM:+0100
TZOFFSETTO:+0200
TZNAME:CEST
DTSTART:20250330T010000
END:DAYLIGHT
BEGIN:STANDARD
TZOFFSETFROM:+0200
TZOFFSETTO:+0100
TZNAME:CET
DTSTART:20251026T010000
END:STANDARD
BEGIN:DAYLIGHT
TZOFFSETFROM:+0100
TZOFFSETTO:+0200
TZNAME:CEST
DTSTART:20260329T010000
END:DAYLIGHT
BEGIN:STANDARD
TZOFFSETFROM:+0200
TZOFFSETTO:+0100
TZNAME:CET
DTSTART:20261025T010000
END:STANDARD
BEGIN:DAYLIGHT
TZOFFSETFROM:+0100
TZOFFSETTO:+0200
TZNAME:CEST
DTSTART:20270328T010000
END:DAYLIGHT
BEGIN:STANDARD
TZOFFSETFROM:+0200
TZOFFSETTO:+0100
TZNAME:CET
DTSTART:20271031T010000
END:STANDARD
END:VTIMEZONE
BEGIN:VEVENT
DTSTART;TZID=Europe/Paris:20260430T190000
DTEND;TZID=Europe/Paris:20260430T210000
DTSTAMP:20260424T182146
CREATED:20260413T095351Z
LAST-MODIFIED:20260413T095351Z
UID:2558-1777575600-1777582800@unsoirdeswing.fr
SUMMARY:Ninkasi MÂCON (71)
DESCRIPTION:
URL:https://unsoirdeswing.fr/concert/ninkasi-macon-71/
LOCATION:Ninkasi\, 5 rue Pierre de Coubertin\, MÂCON\, 71000\, France
CATEGORIES:Gratuit,Publique
ATTACH;FMTTYPE=image/jpeg:https://unsoirdeswing.fr/wp-content/uploads/2024/11/facebook_1731315202944_7261662280972777082.jpg
END:VEVENT
BEGIN:VEVENT
DTSTART;VALUE=DATE:20260502
DTEND;VALUE=DATE:20260503
DTSTAMP:20260424T182146
CREATED:20260413T100607Z
LAST-MODIFIED:20260413T100607Z
UID:2563-1777680000-1777766399@unsoirdeswing.fr
SUMMARY:Concert Privé (01)
DESCRIPTION:
URL:https://unsoirdeswing.fr/concert/concert-prive-01/
LOCATION:Ain
CATEGORIES:Privé
ATTACH;FMTTYPE=image/png:https://unsoirdeswing.fr/wp-content/uploads/2024/05/Logo-UNDS-2-e1714654199754.png
END:VEVENT
BEGIN:VEVENT
DTSTART;TZID=Europe/Paris:20260513T190000
DTEND;TZID=Europe/Paris:20260513T210000
DTSTAMP:20260424T182146
CREATED:20260413T101312Z
LAST-MODIFIED:20260413T101312Z
UID:2570-1778698800-1778706000@unsoirdeswing.fr
SUMMARY:La Caborde (39)
DESCRIPTION:
URL:https://unsoirdeswing.fr/concert/la-caborde-39/
LOCATION:La Caborde\, Montée du Taret\, Beaufort-Orbagna\, 39190\, France
CATEGORIES:Entrée payante,Publique
ATTACH;FMTTYPE=image/png:https://unsoirdeswing.fr/wp-content/uploads/2024/05/Logo-UNDS-2-e1714654199754.png
END:VEVENT
BEGIN:VEVENT
DTSTART;TZID=Europe/Paris:20260523T180000
DTEND;TZID=Europe/Paris:20260523T193000
DTSTAMP:20260424T182146
CREATED:20260413T102013Z
LAST-MODIFIED:20260413T102013Z
UID:2577-1779559200-1779564600@unsoirdeswing.fr
SUMMARY:Mézériat (01)
DESCRIPTION:
URL:https://unsoirdeswing.fr/concert/mezeriat-01/
LOCATION:Mézériat\, Place du village\, Mézériat\, 01660\, France
CATEGORIES:Gratuit,Publique
ATTACH;FMTTYPE=image/png:https://unsoirdeswing.fr/wp-content/uploads/2024/05/Logo-UNDS-2-e1714654199754.png
ORGANIZER;CN="Mez'Animations":MAILTO:mezanimations@gmail.com
END:VEVENT
BEGIN:VEVENT
DTSTART;VALUE=DATE:20260524
DTEND;VALUE=DATE:20260525
DTSTAMP:20260424T182146
CREATED:20260413T103004Z
LAST-MODIFIED:20260413T103004Z
UID:2584-1779580800-1779667199@unsoirdeswing.fr
SUMMARY:Domaine de la Garde - (Bourg-en-Bresse 01)
DESCRIPTION:
URL:https://unsoirdeswing.fr/concert/domaine-de-la-garde-bourg-en-bresse-01-2/
LOCATION:Domaine de la Garde\, Chemin des Narcisses\, Bourg-en-Bresse\, 01000\, France
CATEGORIES:Gratuit,Publique
ATTACH;FMTTYPE=image/jpeg:https://unsoirdeswing.fr/wp-content/uploads/2026/04/facebook_1776075866937_7449402113000430961.jpg
ORGANIZER;CN="SculpNature":MAILTO:sculpnaturegmail.com
END:VEVENT
BEGIN:VEVENT
DTSTART;TZID=Europe/Paris:20260604T140000
DTEND;TZID=Europe/Paris:20260604T160000
DTSTAMP:20260424T182146
CREATED:20260413T103312Z
LAST-MODIFIED:20260413T103312Z
UID:2590-1780581600-1780588800@unsoirdeswing.fr
SUMMARY:Coligny (01)
DESCRIPTION:
URL:https://unsoirdeswing.fr/concert/coligny-01/
LOCATION:Coligny\, Coligny\, 01270\, France
CATEGORIES:Privé
ATTACH;FMTTYPE=image/png:https://unsoirdeswing.fr/wp-content/uploads/2024/05/Logo-UNDS-2-e1714654199754.png
END:VEVENT
BEGIN:VEVENT
DTSTART;TZID=Europe/Paris:20260606T190000
DTEND;TZID=Europe/Paris:20260606T200000
DTSTAMP:20260424T182146
CREATED:20260413T104330Z
LAST-MODIFIED:20260413T104330Z
UID:2592-1780772400-1780776000@unsoirdeswing.fr
SUMMARY:Festival Spechbach-le-Bas (68)
DESCRIPTION:
URL:https://unsoirdeswing.fr/concert/festival-spechbach-le-bas-68/
LOCATION:Spechbach-le-bas\, Place de l'école\, Spechbach-le-Bas\, 68720\, France
CATEGORIES:Payant
ATTACH;FMTTYPE=image/jpeg:https://unsoirdeswing.fr/wp-content/uploads/2026/04/Spechbach.jpg
ORGANIZER;CN="Swing Nomade":MAILTO:contact@festivaljazzmanouche.org
END:VEVENT
BEGIN:VEVENT
DTSTART;TZID=Europe/Paris:20260609T193000
DTEND;TZID=Europe/Paris:20260609T210000
DTSTAMP:20260424T182146
CREATED:20260413T104604Z
LAST-MODIFIED:20260413T104604Z
UID:2600-1781033400-1781038800@unsoirdeswing.fr
SUMMARY:The Liberty's (Villefranche-sur-Saône 69)
DESCRIPTION:
URL:https://unsoirdeswing.fr/concert/the-libertys-villefranche-sur-saone-69-2/
LOCATION:The Liberty’s Irish Pub\, 81 rue d'anse\, 69400
CATEGORIES:Gratuit,Publique
ATTACH;FMTTYPE=image/jpeg:https://unsoirdeswing.fr/wp-content/uploads/2025/03/174244980_405325590909357_4351499342630125322_n.jpg
END:VEVENT
BEGIN:VEVENT
DTSTART;TZID=Europe/Paris:20260613T163000
DTEND;TZID=Europe/Paris:20260613T180000
DTSTAMP:20260424T182146
CREATED:20260413T105130Z
LAST-MODIFIED:20260413T105130Z
UID:2604-1781368200-1781373600@unsoirdeswing.fr
SUMMARY:Centre Socioculturel de la Grande Reyssouze  (01)
DESCRIPTION:
URL:https://unsoirdeswing.fr/concert/centre-socioculturel-de-la-grande-reyssouze-01/
LOCATION:Centre Culturel Reyssouze\, 12 Place Alexandre Dumas\, Bourg-en-Bresse\, 01000\, France
CATEGORIES:Gratuit,Publique
ATTACH;FMTTYPE=image/png:https://unsoirdeswing.fr/wp-content/uploads/2024/05/Logo-UNDS-2-e1714654199754.png
END:VEVENT
BEGIN:VEVENT
DTSTART;TZID=Europe/Paris:20260613T190000
DTEND;TZID=Europe/Paris:20260613T213000
DTSTAMP:20260424T182146
CREATED:20260413T105442Z
LAST-MODIFIED:20260413T105442Z
UID:2611-1781377200-1781386200@unsoirdeswing.fr
SUMMARY:So Club
DESCRIPTION:
URL:https://unsoirdeswing.fr/concert/so-club-2/
LOCATION:So Club\, 39 chemin des Lavioles\, Viriat\, 01440\, France
CATEGORIES:Gratuit,Publique
ATTACH;FMTTYPE=image/png:https://unsoirdeswing.fr/wp-content/uploads/2026/04/7-1.png
END:VEVENT
BEGIN:VEVENT
DTSTART;VALUE=DATE:20260704
DTEND;VALUE=DATE:20260705
DTSTAMP:20260424T182146
CREATED:20260413T105603Z
LAST-MODIFIED:20260413T105603Z
UID:2614-1783123200-1783209599@unsoirdeswing.fr
SUMMARY:Evènement Privé (01)
DESCRIPTION:
URL:https://unsoirdeswing.fr/concert/evenement-prive-01-2/
CATEGORIES:Privé
ATTACH;FMTTYPE=image/png:https://unsoirdeswing.fr/wp-content/uploads/2024/05/Logo-UNDS-2-e1714654199754.png
END:VEVENT
BEGIN:VEVENT
DTSTART;VALUE=DATE:20260822
DTEND;VALUE=DATE:20260823
DTSTAMP:20260424T182146
CREATED:20260413T105703Z
LAST-MODIFIED:20260413T105703Z
UID:2617-1787356800-1787443199@unsoirdeswing.fr
SUMMARY:Evènement Privé (01)
DESCRIPTION:
URL:https://unsoirdeswing.fr/concert/evenement-prive-01-3/
CATEGORIES:Privé
ATTACH;FMTTYPE=image/png:https://unsoirdeswing.fr/wp-content/uploads/2024/05/Logo-UNDS-2-e1714654199754.png
END:VEVENT
END:VCALENDAR