BEGIN:VCALENDAR
VERSION:2.0
PRODID:-//Un soir de swing - ECPv6.15.11//NONSGML v1.0//EN
CALSCALE:GREGORIAN
METHOD:PUBLISH
X-ORIGINAL-URL:https://unsoirdeswing.fr
X-WR-CALDESC:Évènements pour Un soir de swing
REFRESH-INTERVAL;VALUE=DURATION:PT1H
X-Robots-Tag:noindex
X-PUBLISHED-TTL:PT1H
BEGIN:VTIMEZONE
TZID:Europe/Paris
BEGIN:DAYLIGHT
TZOFFSETFROM:+0100
TZOFFSETTO:+0200
TZNAME:CEST
DTSTART:20240331T010000
END:DAYLIGHT
BEGIN:STANDARD
TZOFFSETFROM:+0200
TZOFFSETTO:+0100
TZNAME:CET
DTSTART:20241027T010000
END:STANDARD
BEGIN:DAYLIGHT
TZOFFSETFROM:+0100
TZOFFSETTO:+0200
TZNAME:CEST
DTSTART:20250330T010000
END:DAYLIGHT
BEGIN:STANDARD
TZOFFSETFROM:+0200
TZOFFSETTO:+0100
TZNAME:CET
DTSTART:20251026T010000
END:STANDARD
BEGIN:DAYLIGHT
TZOFFSETFROM:+0100
TZOFFSETTO:+0200
TZNAME:CEST
DTSTART:20260329T010000
END:DAYLIGHT
BEGIN:STANDARD
TZOFFSETFROM:+0200
TZOFFSETTO:+0100
TZNAME:CET
DTSTART:20261025T010000
END:STANDARD
END:VTIMEZONE
BEGIN:VEVENT
DTSTART;TZID=Europe/Paris:20250619T200000
DTEND;TZID=Europe/Paris:20250619T220000
DTSTAMP:20260420T053503
CREATED:20250209T144514Z
LAST-MODIFIED:20250220T090819Z
UID:1976-1750363200-1750370400@unsoirdeswing.fr
SUMMARY:So Club
DESCRIPTION:
URL:https://unsoirdeswing.fr/concert/so-club/
LOCATION:So Club\, 39 chemin des Lavioles\, Viriat\, 01440\, France
CATEGORIES:Gratuit,Publique
ATTACH;FMTTYPE=image/png:https://unsoirdeswing.fr/wp-content/uploads/2025/02/so-club.png
END:VEVENT
END:VCALENDAR