BEGIN:VCALENDAR
VERSION:2.0
PRODID:-//Un soir de swing - ECPv6.15.11//NONSGML v1.0//EN
CALSCALE:GREGORIAN
METHOD:PUBLISH
X-ORIGINAL-URL:https://unsoirdeswing.fr
X-WR-CALDESC:Évènements pour Un soir de swing
REFRESH-INTERVAL;VALUE=DURATION:PT1H
X-Robots-Tag:noindex
X-PUBLISHED-TTL:PT1H
BEGIN:VTIMEZONE
TZID:Europe/Paris
BEGIN:DAYLIGHT
TZOFFSETFROM:+0100
TZOFFSETTO:+0200
TZNAME:CEST
DTSTART:20240331T010000
END:DAYLIGHT
BEGIN:STANDARD
TZOFFSETFROM:+0200
TZOFFSETTO:+0100
TZNAME:CET
DTSTART:20241027T010000
END:STANDARD
BEGIN:DAYLIGHT
TZOFFSETFROM:+0100
TZOFFSETTO:+0200
TZNAME:CEST
DTSTART:20250330T010000
END:DAYLIGHT
BEGIN:STANDARD
TZOFFSETFROM:+0200
TZOFFSETTO:+0100
TZNAME:CET
DTSTART:20251026T010000
END:STANDARD
BEGIN:DAYLIGHT
TZOFFSETFROM:+0100
TZOFFSETTO:+0200
TZNAME:CEST
DTSTART:20260329T010000
END:DAYLIGHT
BEGIN:STANDARD
TZOFFSETFROM:+0200
TZOFFSETTO:+0100
TZNAME:CET
DTSTART:20261025T010000
END:STANDARD
END:VTIMEZONE
BEGIN:VEVENT
DTSTART;TZID=Europe/Paris:20250503T200000
DTEND;TZID=Europe/Paris:20250503T213000
DTSTAMP:20260420T072159
CREATED:20250220T090115Z
LAST-MODIFIED:20250220T090115Z
UID:1995-1746302400-1746307800@unsoirdeswing.fr
SUMMARY:Saint Germain du Bois (71)
DESCRIPTION:
URL:https://unsoirdeswing.fr/concert/saint-germain-du-bois-71/
LOCATION:Saint Germain du Bois\, 71330\, France
CATEGORIES:Gratuit,Publique
ATTACH;FMTTYPE=image/jpeg:https://unsoirdeswing.fr/wp-content/uploads/2025/02/logo-grabuge.jpg
ORGANIZER;CN="Association GRABUGE":MAILTO:grabuge.association@gmail.com
END:VEVENT
END:VCALENDAR