BEGIN:VCALENDAR
VERSION:2.0
PRODID:-//Un soir de swing - ECPv6.15.11//NONSGML v1.0//EN
CALSCALE:GREGORIAN
METHOD:PUBLISH
X-WR-CALNAME:Un soir de swing
X-ORIGINAL-URL:https://unsoirdeswing.fr
X-WR-CALDESC:Évènements pour Un soir de swing
REFRESH-INTERVAL;VALUE=DURATION:PT1H
X-Robots-Tag:noindex
X-PUBLISHED-TTL:PT1H
BEGIN:VTIMEZONE
TZID:Europe/Paris
BEGIN:DAYLIGHT
TZOFFSETFROM:+0100
TZOFFSETTO:+0200
TZNAME:CEST
DTSTART:20250330T010000
END:DAYLIGHT
BEGIN:STANDARD
TZOFFSETFROM:+0200
TZOFFSETTO:+0100
TZNAME:CET
DTSTART:20251026T010000
END:STANDARD
BEGIN:DAYLIGHT
TZOFFSETFROM:+0100
TZOFFSETTO:+0200
TZNAME:CEST
DTSTART:20260329T010000
END:DAYLIGHT
BEGIN:STANDARD
TZOFFSETFROM:+0200
TZOFFSETTO:+0100
TZNAME:CET
DTSTART:20261025T010000
END:STANDARD
BEGIN:DAYLIGHT
TZOFFSETFROM:+0100
TZOFFSETTO:+0200
TZNAME:CEST
DTSTART:20270328T010000
END:DAYLIGHT
BEGIN:STANDARD
TZOFFSETFROM:+0200
TZOFFSETTO:+0100
TZNAME:CET
DTSTART:20271031T010000
END:STANDARD
END:VTIMEZONE
BEGIN:VEVENT
DTSTART;TZID=Europe/Paris:20260523T180000
DTEND;TZID=Europe/Paris:20260523T193000
DTSTAMP:20260419T171400
CREATED:20260413T102013Z
LAST-MODIFIED:20260413T102013Z
UID:2577-1779559200-1779564600@unsoirdeswing.fr
SUMMARY:Mézériat (01)
DESCRIPTION:
URL:https://unsoirdeswing.fr/concert/mezeriat-01/
LOCATION:Mézériat\, Place du village\, Mézériat\, 01660\, France
CATEGORIES:Gratuit,Publique
ATTACH;FMTTYPE=image/png:https://unsoirdeswing.fr/wp-content/uploads/2024/05/Logo-UNDS-2-e1714654199754.png
ORGANIZER;CN="Mez'Animations":MAILTO:mezanimations@gmail.com
END:VEVENT
BEGIN:VEVENT
DTSTART;VALUE=DATE:20260524
DTEND;VALUE=DATE:20260525
DTSTAMP:20260419T171400
CREATED:20260413T103004Z
LAST-MODIFIED:20260413T103004Z
UID:2584-1779580800-1779667199@unsoirdeswing.fr
SUMMARY:Domaine de la Garde - (Bourg-en-Bresse 01)
DESCRIPTION:
URL:https://unsoirdeswing.fr/concert/domaine-de-la-garde-bourg-en-bresse-01-2/
LOCATION:Domaine de la Garde\, Chemin des Narcisses\, Bourg-en-Bresse\, 01000\, France
CATEGORIES:Gratuit,Publique
ATTACH;FMTTYPE=image/jpeg:https://unsoirdeswing.fr/wp-content/uploads/2026/04/facebook_1776075866937_7449402113000430961.jpg
ORGANIZER;CN="SculpNature":MAILTO:sculpnaturegmail.com
END:VEVENT
END:VCALENDAR