BEGIN:VCALENDAR
VERSION:2.0
PRODID:-//Un soir de swing - ECPv6.15.11//NONSGML v1.0//EN
CALSCALE:GREGORIAN
METHOD:PUBLISH
X-WR-CALNAME:Un soir de swing
X-ORIGINAL-URL:https://unsoirdeswing.fr
X-WR-CALDESC:Évènements pour Un soir de swing
REFRESH-INTERVAL;VALUE=DURATION:PT1H
X-Robots-Tag:noindex
X-PUBLISHED-TTL:PT1H
BEGIN:VTIMEZONE
TZID:Europe/Paris
BEGIN:DAYLIGHT
TZOFFSETFROM:+0100
TZOFFSETTO:+0200
TZNAME:CEST
DTSTART:20240331T010000
END:DAYLIGHT
BEGIN:STANDARD
TZOFFSETFROM:+0200
TZOFFSETTO:+0100
TZNAME:CET
DTSTART:20241027T010000
END:STANDARD
BEGIN:DAYLIGHT
TZOFFSETFROM:+0100
TZOFFSETTO:+0200
TZNAME:CEST
DTSTART:20250330T010000
END:DAYLIGHT
BEGIN:STANDARD
TZOFFSETFROM:+0200
TZOFFSETTO:+0100
TZNAME:CET
DTSTART:20251026T010000
END:STANDARD
BEGIN:DAYLIGHT
TZOFFSETFROM:+0100
TZOFFSETTO:+0200
TZNAME:CEST
DTSTART:20260329T010000
END:DAYLIGHT
BEGIN:STANDARD
TZOFFSETFROM:+0200
TZOFFSETTO:+0100
TZNAME:CET
DTSTART:20261025T010000
END:STANDARD
END:VTIMEZONE
BEGIN:VEVENT
DTSTART;TZID=Europe/Paris:20250718T203000
DTEND;TZID=Europe/Paris:20250718T230000
DTSTAMP:20260420T022245
CREATED:20250702T142124Z
LAST-MODIFIED:20250702T142124Z
UID:2495-1752870600-1752879600@unsoirdeswing.fr
SUMMARY:Brasserie Kooka
DESCRIPTION:
URL:https://unsoirdeswing.fr/concert/brasserie-kooka/
LOCATION:Saint Martin du Mont\, 205 chemin de l'éperon\, Saint Martin du Mont\, 01160\, France
CATEGORIES:Gratuit,Publique
ATTACH;FMTTYPE=image/png:https://unsoirdeswing.fr/wp-content/uploads/2025/07/kooka.png
END:VEVENT
BEGIN:VEVENT
DTSTART;TZID=Europe/Paris:20250722T203000
DTEND;TZID=Europe/Paris:20250722T220000
DTSTAMP:20260420T022245
CREATED:20250702T142909Z
LAST-MODIFIED:20250702T142909Z
UID:2500-1753216200-1753221600@unsoirdeswing.fr
SUMMARY:The Liberty's Irish Pub
DESCRIPTION:
URL:https://unsoirdeswing.fr/concert/the-libertys-irish-pub-2/
LOCATION:The Liberty’s Irish Pub\, 81 rue d'anse\, 69400
CATEGORIES:Gratuit,Publique
ATTACH;FMTTYPE=image/jpeg:https://unsoirdeswing.fr/wp-content/uploads/2025/03/174244980_405325590909357_4351499342630125322_n.jpg
END:VEVENT
BEGIN:VEVENT
DTSTART;TZID=Europe/Paris:20250725T193000
DTEND;TZID=Europe/Paris:20250725T213000
DTSTAMP:20260420T022245
CREATED:20250505T100908Z
LAST-MODIFIED:20250505T100908Z
UID:2405-1753471800-1753479000@unsoirdeswing.fr
SUMMARY:The Bootlegger Bar
DESCRIPTION:
URL:https://unsoirdeswing.fr/concert/the-bootlegger-bar/
LOCATION:Le Bootlegger\, 2 rue de la République\, Bourg-en-Bresse\, 01000
CATEGORIES:Gratuit,Publique
ATTACH;FMTTYPE=image/png:https://unsoirdeswing.fr/wp-content/uploads/2024/06/bootlegger-bar-interieur-bourg-en-bresse.png
END:VEVENT
BEGIN:VEVENT
DTSTART;TZID=Europe/Paris:20250731T190000
DTEND;TZID=Europe/Paris:20250731T210000
DTSTAMP:20260420T022245
CREATED:20250209T145140Z
LAST-MODIFIED:20250209T145140Z
UID:1983-1753988400-1753995600@unsoirdeswing.fr
SUMMARY:27e édition du Festival d'Hauteville
DESCRIPTION:
URL:https://unsoirdeswing.fr/concert/27e-edition-du-festival-dhauteville/
LOCATION:Hauteville\, 01110
CATEGORIES:Gratuit,Publique
ATTACH;FMTTYPE=image/jpeg:https://unsoirdeswing.fr/wp-content/uploads/2024/05/436365822_927923452494766_6763386942309513032_n.jpg
END:VEVENT
END:VCALENDAR