BEGIN:VCALENDAR
VERSION:2.0
PRODID:-//Un soir de swing - ECPv6.15.11//NONSGML v1.0//EN
CALSCALE:GREGORIAN
METHOD:PUBLISH
X-WR-CALNAME:Un soir de swing
X-ORIGINAL-URL:https://unsoirdeswing.fr
X-WR-CALDESC:Évènements pour Un soir de swing
REFRESH-INTERVAL;VALUE=DURATION:PT1H
X-Robots-Tag:noindex
X-PUBLISHED-TTL:PT1H
BEGIN:VTIMEZONE
TZID:Europe/Paris
BEGIN:DAYLIGHT
TZOFFSETFROM:+0100
TZOFFSETTO:+0200
TZNAME:CEST
DTSTART:20240331T010000
END:DAYLIGHT
BEGIN:STANDARD
TZOFFSETFROM:+0200
TZOFFSETTO:+0100
TZNAME:CET
DTSTART:20241027T010000
END:STANDARD
BEGIN:DAYLIGHT
TZOFFSETFROM:+0100
TZOFFSETTO:+0200
TZNAME:CEST
DTSTART:20250330T010000
END:DAYLIGHT
BEGIN:STANDARD
TZOFFSETFROM:+0200
TZOFFSETTO:+0100
TZNAME:CET
DTSTART:20251026T010000
END:STANDARD
BEGIN:DAYLIGHT
TZOFFSETFROM:+0100
TZOFFSETTO:+0200
TZNAME:CEST
DTSTART:20260329T010000
END:DAYLIGHT
BEGIN:STANDARD
TZOFFSETFROM:+0200
TZOFFSETTO:+0100
TZNAME:CET
DTSTART:20261025T010000
END:STANDARD
END:VTIMEZONE
BEGIN:VEVENT
DTSTART;TZID=Europe/Paris:20250603T210000
DTEND;TZID=Europe/Paris:20250603T230000
DTSTAMP:20260420T035813
CREATED:20250322T082944Z
LAST-MODIFIED:20250322T082944Z
UID:2029-1748984400-1748991600@unsoirdeswing.fr
SUMMARY:The Liberty's Irish Pub
DESCRIPTION:
URL:https://unsoirdeswing.fr/concert/the-libertys-irish-pub/
LOCATION:The Liberty’s Irish Pub\, 81 rue d'anse\, 69400
CATEGORIES:Gratuit,Publique
ATTACH;FMTTYPE=image/jpeg:https://unsoirdeswing.fr/wp-content/uploads/2025/03/174244980_405325590909357_4351499342630125322_n.jpg
END:VEVENT
BEGIN:VEVENT
DTSTART;TZID=Europe/Paris:20250611T200000
DTEND;TZID=Europe/Paris:20250611T210000
DTSTAMP:20260420T035813
CREATED:20250410T052531Z
LAST-MODIFIED:20250410T052531Z
UID:2296-1749672000-1749675600@unsoirdeswing.fr
SUMMARY:Concert Au Domaine de la Garde
DESCRIPTION:
URL:https://unsoirdeswing.fr/concert/concert-au-domaine-de-la-garde/
LOCATION:Domaine de la Garde\, Chemin des Narcisses\, Bourg-en-Bresse\, 01000\, France
CATEGORIES:Gratuit,Publique
ATTACH;FMTTYPE=image/png:https://unsoirdeswing.fr/wp-content/uploads/2024/05/Logo-UNDS-2-e1714654199754.png
END:VEVENT
BEGIN:VEVENT
DTSTART;TZID=Europe/Paris:20250619T200000
DTEND;TZID=Europe/Paris:20250619T220000
DTSTAMP:20260420T035813
CREATED:20250209T144514Z
LAST-MODIFIED:20250220T090819Z
UID:1976-1750363200-1750370400@unsoirdeswing.fr
SUMMARY:So Club
DESCRIPTION:
URL:https://unsoirdeswing.fr/concert/so-club/
LOCATION:So Club\, 39 chemin des Lavioles\, Viriat\, 01440\, France
CATEGORIES:Gratuit,Publique
ATTACH;FMTTYPE=image/png:https://unsoirdeswing.fr/wp-content/uploads/2025/02/so-club.png
END:VEVENT
BEGIN:VEVENT
DTSTART;VALUE=DATE:20250621
DTEND;VALUE=DATE:20250622
DTSTAMP:20260420T035813
CREATED:20250322T083436Z
LAST-MODIFIED:20250322T083436Z
UID:2032-1750464000-1750550399@unsoirdeswing.fr
SUMMARY:Fête de la Musique
DESCRIPTION:
URL:https://unsoirdeswing.fr/concert/fete-de-la-musique/
LOCATION:Oyonnax\, 01100
CATEGORIES:Gratuit,Publique
ATTACH;FMTTYPE=image/png:https://unsoirdeswing.fr/wp-content/uploads/2024/05/Logo-UNDS-2-e1714654199754.png
END:VEVENT
END:VCALENDAR