BEGIN:VCALENDAR
VERSION:2.0
PRODID:-//Un soir de swing - ECPv6.15.11//NONSGML v1.0//EN
CALSCALE:GREGORIAN
METHOD:PUBLISH
X-WR-CALNAME:Un soir de swing
X-ORIGINAL-URL:https://unsoirdeswing.fr
X-WR-CALDESC:Évènements pour Un soir de swing
REFRESH-INTERVAL;VALUE=DURATION:PT1H
X-Robots-Tag:noindex
X-PUBLISHED-TTL:PT1H
BEGIN:VTIMEZONE
TZID:Europe/Paris
BEGIN:DAYLIGHT
TZOFFSETFROM:+0100
TZOFFSETTO:+0200
TZNAME:CEST
DTSTART:20240331T010000
END:DAYLIGHT
BEGIN:STANDARD
TZOFFSETFROM:+0200
TZOFFSETTO:+0100
TZNAME:CET
DTSTART:20241027T010000
END:STANDARD
BEGIN:DAYLIGHT
TZOFFSETFROM:+0100
TZOFFSETTO:+0200
TZNAME:CEST
DTSTART:20250330T010000
END:DAYLIGHT
BEGIN:STANDARD
TZOFFSETFROM:+0200
TZOFFSETTO:+0100
TZNAME:CET
DTSTART:20251026T010000
END:STANDARD
BEGIN:DAYLIGHT
TZOFFSETFROM:+0100
TZOFFSETTO:+0200
TZNAME:CEST
DTSTART:20260329T010000
END:DAYLIGHT
BEGIN:STANDARD
TZOFFSETFROM:+0200
TZOFFSETTO:+0100
TZNAME:CET
DTSTART:20261025T010000
END:STANDARD
END:VTIMEZONE
BEGIN:VEVENT
DTSTART;TZID=Europe/Paris:20250503T200000
DTEND;TZID=Europe/Paris:20250503T213000
DTSTAMP:20260420T053754
CREATED:20250220T090115Z
LAST-MODIFIED:20250220T090115Z
UID:1995-1746302400-1746307800@unsoirdeswing.fr
SUMMARY:Saint Germain du Bois (71)
DESCRIPTION:
URL:https://unsoirdeswing.fr/concert/saint-germain-du-bois-71/
LOCATION:Saint Germain du Bois\, 71330\, France
CATEGORIES:Gratuit,Publique
ATTACH;FMTTYPE=image/jpeg:https://unsoirdeswing.fr/wp-content/uploads/2025/02/logo-grabuge.jpg
ORGANIZER;CN="Association GRABUGE":MAILTO:grabuge.association@gmail.com
END:VEVENT
BEGIN:VEVENT
DTSTART;TZID=Europe/Paris:20250515T200000
DTEND;TZID=Europe/Paris:20250515T220000
DTSTAMP:20260420T053754
CREATED:20250410T172650Z
LAST-MODIFIED:20250410T174635Z
UID:2319-1747339200-1747346400@unsoirdeswing.fr
SUMMARY:Jazz Day - Amphitorium d'Agglomération - Bourg-en-Bresse
DESCRIPTION:🎸 Guitare solo : Djanito Félix🎶 Guitare rythmique : Youri Félix🎻 Violon : Jean Lardanchet🎼 Contrebasse : Julien Pennec \n💰 Entrée gratuite\n✅ Réservations ouvertes\n👉 https://urlr.me/AtyWB3⚠️ Places limitées… Dépêchez-vous ! 🏃‍♂️🏃‍♀️💨
URL:https://unsoirdeswing.fr/concert/jazz-day/
LOCATION:Amphitorium d’Agglomération\, 1 Esplanade François Mitterrand\, BOURG-EN-BRESSE\, 01000\, France
CATEGORIES:Gratuit,Publique,Réservation obligatoire
ATTACH;FMTTYPE=image/jpeg:https://unsoirdeswing.fr/wp-content/uploads/2025/04/2572_500_IMG_0095.jpg
END:VEVENT
BEGIN:VEVENT
DTSTART;TZID=Europe/Paris:20250523T190000
DTEND;TZID=Europe/Paris:20250523T210000
DTSTAMP:20260420T053754
CREATED:20250505T100500Z
LAST-MODIFIED:20250505T110838Z
UID:2403-1748026800-1748034000@unsoirdeswing.fr
SUMMARY:Trévoux
DESCRIPTION:
URL:https://unsoirdeswing.fr/concert/trevoux/
LOCATION:Les Terrasses Musicales\, Place de la Terrasse\, Trévoux\, 01600\, France
CATEGORIES:Gratuit,Publique
ATTACH;FMTTYPE=image/jpeg:https://unsoirdeswing.fr/wp-content/uploads/2025/05/1746442919159.jpg
END:VEVENT
BEGIN:VEVENT
DTSTART;TZID=Europe/Paris:20250524T183000
DTEND;TZID=Europe/Paris:20250524T201500
DTSTAMP:20260420T053754
CREATED:20250209T143717Z
LAST-MODIFIED:20250322T080717Z
UID:1973-1748111400-1748117700@unsoirdeswing.fr
SUMMARY:Mézériat
DESCRIPTION:
URL:https://unsoirdeswing.fr/concert/mezeriat/
CATEGORIES:Gratuit,Publique
ATTACH;FMTTYPE=image/png:https://unsoirdeswing.fr/wp-content/uploads/2024/05/Logo-UNDS-2-e1714654199754.png
END:VEVENT
END:VCALENDAR