BEGIN:VCALENDAR
VERSION:2.0
PRODID:-//Un soir de swing - ECPv6.15.11//NONSGML v1.0//EN
CALSCALE:GREGORIAN
METHOD:PUBLISH
X-WR-CALNAME:Un soir de swing
X-ORIGINAL-URL:https://unsoirdeswing.fr
X-WR-CALDESC:Évènements pour Un soir de swing
REFRESH-INTERVAL;VALUE=DURATION:PT1H
X-Robots-Tag:noindex
X-PUBLISHED-TTL:PT1H
BEGIN:VTIMEZONE
TZID:Europe/Paris
BEGIN:DAYLIGHT
TZOFFSETFROM:+0100
TZOFFSETTO:+0200
TZNAME:CEST
DTSTART:20230326T010000
END:DAYLIGHT
BEGIN:STANDARD
TZOFFSETFROM:+0200
TZOFFSETTO:+0100
TZNAME:CET
DTSTART:20231029T010000
END:STANDARD
BEGIN:DAYLIGHT
TZOFFSETFROM:+0100
TZOFFSETTO:+0200
TZNAME:CEST
DTSTART:20240331T010000
END:DAYLIGHT
BEGIN:STANDARD
TZOFFSETFROM:+0200
TZOFFSETTO:+0100
TZNAME:CET
DTSTART:20241027T010000
END:STANDARD
BEGIN:DAYLIGHT
TZOFFSETFROM:+0100
TZOFFSETTO:+0200
TZNAME:CEST
DTSTART:20250330T010000
END:DAYLIGHT
BEGIN:STANDARD
TZOFFSETFROM:+0200
TZOFFSETTO:+0100
TZNAME:CET
DTSTART:20251026T010000
END:STANDARD
END:VTIMEZONE
BEGIN:VEVENT
DTSTART;TZID=Europe/Paris:20241115T210000
DTEND;TZID=Europe/Paris:20241115T230000
DTSTAMP:20260420T150426
CREATED:20241111T085811Z
LAST-MODIFIED:20241111T085811Z
UID:1936-1731704400-1731711600@unsoirdeswing.fr
SUMMARY:Ninkasi Villefranche
DESCRIPTION:
URL:https://unsoirdeswing.fr/concert/ninkasi-villefranche/
LOCATION:Ninkasi\, 5 rue Pierre de Coubertin\, MÂCON\, 71000\, France
CATEGORIES:Gratuit,Publique
ATTACH;FMTTYPE=image/jpeg:https://unsoirdeswing.fr/wp-content/uploads/2024/11/facebook_1731315202944_7261662280972777082.jpg
END:VEVENT
END:VCALENDAR