BEGIN:VCALENDAR
VERSION:2.0
PRODID:-//Un soir de swing - ECPv6.15.11//NONSGML v1.0//EN
CALSCALE:GREGORIAN
METHOD:PUBLISH
X-ORIGINAL-URL:https://unsoirdeswing.fr
X-WR-CALDESC:Évènements pour Un soir de swing
REFRESH-INTERVAL;VALUE=DURATION:PT1H
X-Robots-Tag:noindex
X-PUBLISHED-TTL:PT1H
BEGIN:VTIMEZONE
TZID:Europe/Paris
BEGIN:DAYLIGHT
TZOFFSETFROM:+0100
TZOFFSETTO:+0200
TZNAME:CEST
DTSTART:20250330T010000
END:DAYLIGHT
BEGIN:STANDARD
TZOFFSETFROM:+0200
TZOFFSETTO:+0100
TZNAME:CET
DTSTART:20251026T010000
END:STANDARD
BEGIN:DAYLIGHT
TZOFFSETFROM:+0100
TZOFFSETTO:+0200
TZNAME:CEST
DTSTART:20260329T010000
END:DAYLIGHT
BEGIN:STANDARD
TZOFFSETFROM:+0200
TZOFFSETTO:+0100
TZNAME:CET
DTSTART:20261025T010000
END:STANDARD
BEGIN:DAYLIGHT
TZOFFSETFROM:+0100
TZOFFSETTO:+0200
TZNAME:CEST
DTSTART:20270328T010000
END:DAYLIGHT
BEGIN:STANDARD
TZOFFSETFROM:+0200
TZOFFSETTO:+0100
TZNAME:CET
DTSTART:20271031T010000
END:STANDARD
END:VTIMEZONE
BEGIN:VEVENT
DTSTART;TZID=Europe/Paris:20260606T190000
DTEND;TZID=Europe/Paris:20260606T200000
DTSTAMP:20260424T224806
CREATED:20260413T104330Z
LAST-MODIFIED:20260413T104330Z
UID:2592-1780772400-1780776000@unsoirdeswing.fr
SUMMARY:Festival Spechbach-le-Bas (68)
DESCRIPTION:
URL:https://unsoirdeswing.fr/concert/festival-spechbach-le-bas-68/
LOCATION:Spechbach-le-bas\, Place de l'école\, Spechbach-le-Bas\, 68720\, France
CATEGORIES:Payant
ATTACH;FMTTYPE=image/jpeg:https://unsoirdeswing.fr/wp-content/uploads/2026/04/Spechbach.jpg
ORGANIZER;CN="Swing Nomade":MAILTO:contact@festivaljazzmanouche.org
END:VEVENT
END:VCALENDAR