BEGIN:VCALENDAR
VERSION:2.0
PRODID:-//Un soir de swing - ECPv6.15.11//NONSGML v1.0//EN
CALSCALE:GREGORIAN
METHOD:PUBLISH
X-ORIGINAL-URL:https://unsoirdeswing.fr
X-WR-CALDESC:Évènements pour Un soir de swing
REFRESH-INTERVAL;VALUE=DURATION:PT1H
X-Robots-Tag:noindex
X-PUBLISHED-TTL:PT1H
BEGIN:VTIMEZONE
TZID:Europe/Paris
BEGIN:DAYLIGHT
TZOFFSETFROM:+0100
TZOFFSETTO:+0200
TZNAME:CEST
DTSTART:20230326T010000
END:DAYLIGHT
BEGIN:STANDARD
TZOFFSETFROM:+0200
TZOFFSETTO:+0100
TZNAME:CET
DTSTART:20231029T010000
END:STANDARD
BEGIN:DAYLIGHT
TZOFFSETFROM:+0100
TZOFFSETTO:+0200
TZNAME:CEST
DTSTART:20240331T010000
END:DAYLIGHT
BEGIN:STANDARD
TZOFFSETFROM:+0200
TZOFFSETTO:+0100
TZNAME:CET
DTSTART:20241027T010000
END:STANDARD
BEGIN:DAYLIGHT
TZOFFSETFROM:+0100
TZOFFSETTO:+0200
TZNAME:CEST
DTSTART:20250330T010000
END:DAYLIGHT
BEGIN:STANDARD
TZOFFSETFROM:+0200
TZOFFSETTO:+0100
TZNAME:CET
DTSTART:20251026T010000
END:STANDARD
END:VTIMEZONE
BEGIN:VEVENT
DTSTART;VALUE=DATE:20240831
DTEND;VALUE=DATE:20240901
DTSTAMP:20260425T235310
CREATED:20240509T170540Z
LAST-MODIFIED:20240621T055718Z
UID:1143-1725062400-1725148799@unsoirdeswing.fr
SUMMARY:Saint André d'Huiriat (01)
DESCRIPTION:Horaire et lieu à définir
URL:https://unsoirdeswing.fr/concert/saint-andre-d-huiriat/
LOCATION:Saint André d’Huiriat\, Saint André d'Huiriat\, 01290\, France
CATEGORIES:Publique
ATTACH;FMTTYPE=image/png:https://unsoirdeswing.fr/wp-content/uploads/2024/05/Logo-UNDS-2-e1714654199754.png
END:VEVENT
END:VCALENDAR