BEGIN:VCALENDAR
VERSION:2.0
PRODID:-//Un soir de swing - ECPv6.15.11//NONSGML v1.0//EN
CALSCALE:GREGORIAN
METHOD:PUBLISH
X-WR-CALNAME:Un soir de swing
X-ORIGINAL-URL:https://unsoirdeswing.fr
X-WR-CALDESC:Évènements pour Un soir de swing
REFRESH-INTERVAL;VALUE=DURATION:PT1H
X-Robots-Tag:noindex
X-PUBLISHED-TTL:PT1H
BEGIN:VTIMEZONE
TZID:Europe/Paris
BEGIN:DAYLIGHT
TZOFFSETFROM:+0100
TZOFFSETTO:+0200
TZNAME:CEST
DTSTART:20230326T010000
END:DAYLIGHT
BEGIN:STANDARD
TZOFFSETFROM:+0200
TZOFFSETTO:+0100
TZNAME:CET
DTSTART:20231029T010000
END:STANDARD
BEGIN:DAYLIGHT
TZOFFSETFROM:+0100
TZOFFSETTO:+0200
TZNAME:CEST
DTSTART:20240331T010000
END:DAYLIGHT
BEGIN:STANDARD
TZOFFSETFROM:+0200
TZOFFSETTO:+0100
TZNAME:CET
DTSTART:20241027T010000
END:STANDARD
BEGIN:DAYLIGHT
TZOFFSETFROM:+0100
TZOFFSETTO:+0200
TZNAME:CEST
DTSTART:20250330T010000
END:DAYLIGHT
BEGIN:STANDARD
TZOFFSETFROM:+0200
TZOFFSETTO:+0100
TZNAME:CET
DTSTART:20251026T010000
END:STANDARD
END:VTIMEZONE
BEGIN:VEVENT
DTSTART;TZID=Europe/Paris:20240717T193000
DTEND;TZID=Europe/Paris:20240717T193000
DTSTAMP:20260426T023321
CREATED:20240502T180002Z
LAST-MODIFIED:20240527T222131Z
UID:822-1721244600-1721244600@unsoirdeswing.fr
SUMMARY:Le Beau Marché - Bourg-en-Bresse (01)
DESCRIPTION:
URL:https://unsoirdeswing.fr/concert/le-beau-marche/
LOCATION:Le Beau Marché\, Food Hall Le beau marché\, 16 Pl. Carriat\, Bourg-en-Bresse\, 01000
CATEGORIES:Publique
ATTACH;FMTTYPE=image/png:https://unsoirdeswing.fr/wp-content/uploads/2024/05/logo-beau-marche.png
END:VEVENT
END:VCALENDAR